BEGIN:VCALENDAR
PRODID:-//eluceo/ical//2.0/EN
VERSION:2.0
CALSCALE:GREGORIAN
BEGIN:VEVENT
UID:Baywa r.e.
DTSTAMP:20260425T102008Z
SUMMARY:Scopri le soluzioni C&I di Huawei: Inverter MC0 e BESS LUNA2000-241
 -2S1
DESCRIPTION:Ti invitiamo al webinar\, organizzato con Huawei\, dove scoprir
 ai le migliori soluzioni per il mercato C&amp\;I di Huawei per sfruttare a
 l meglio l'energia fotovoltaica in azienda.\nGli argomenti che tratteremo 
 sono:\n - Vantaggi e caratteristiche dell'Inverter trifase MCO - Sistema B
 ESS LUNA2000-241-2S1&nbsp\; - Sessione Q&amp\;A &nbsp\;
DTSTART:20260505T130000Z
DTEND:20260505T140000Z
LOCATION:Online
END:VEVENT
BEGIN:VTIMEZONE
TZID:UTC
END:VTIMEZONE
END:VCALENDAR
